BEGIN:VCALENDAR
CALSCALE:GREGORIAN
VERSION:2.0
METHOD:PUBLISH 
X-WR-CALNAME:
BEGIN:VEVENT
DTSTART;TZID=Europe/Paris:20260515T211500
DTEND;TZID=Europe/Paris:20260515T221500
SUMMARY:Benjamin Verrecchia - Plein Phare - Le Point Virgule, Paris
CATEGORIE:Spectacles et théâtre
GEO:48.85786125021200;2.35688668859300
LOCATION:Le Point-Virgule\, 7, rue Sainte-Croix-de-la-Bretonnerie\, 75004 Paris 4e\, France
URL:https://www.fest.fr/e/2370641
UID:2370641-1@fest.fr
END:VEVENT
BEGIN:VEVENT
DTSTART;TZID=Europe/Paris:20260516T211500
DTEND;TZID=Europe/Paris:20260516T221500
SUMMARY:Benjamin Verrecchia - Plein Phare - Le Point Virgule, Paris
CATEGORIE:Spectacles et théâtre
GEO:48.85786125021200;2.35688668859300
LOCATION:Le Point-Virgule\, 7, rue Sainte-Croix-de-la-Bretonnerie\, 75004 Paris 4e\, France
URL:https://www.fest.fr/e/2370641
UID:2370641-2@fest.fr
END:VEVENT
BEGIN:VEVENT
DTSTART;TZID=Europe/Paris:20260522T211500
DTEND;TZID=Europe/Paris:20260522T221500
SUMMARY:Benjamin Verrecchia - Plein Phare - Le Point Virgule, Paris
CATEGORIE:Spectacles et théâtre
GEO:48.85786125021200;2.35688668859300
LOCATION:Le Point-Virgule\, 7, rue Sainte-Croix-de-la-Bretonnerie\, 75004 Paris 4e\, France
URL:https://www.fest.fr/e/2370641
UID:2370641-3@fest.fr
END:VEVENT
BEGIN:VEVENT
DTSTART;TZID=Europe/Paris:20260523T211500
DTEND;TZID=Europe/Paris:20260523T221500
SUMMARY:Benjamin Verrecchia - Plein Phare - Le Point Virgule, Paris
CATEGORIE:Spectacles et théâtre
GEO:48.85786125021200;2.35688668859300
LOCATION:Le Point-Virgule\, 7, rue Sainte-Croix-de-la-Bretonnerie\, 75004 Paris 4e\, France
URL:https://www.fest.fr/e/2370641
UID:2370641-4@fest.fr
END:VEVENT
BEGIN:VEVENT
DTSTART;TZID=Europe/Paris:20260529T211500
DTEND;TZID=Europe/Paris:20260529T221500
SUMMARY:Benjamin Verrecchia - Plein Phare - Le Point Virgule, Paris
CATEGORIE:Spectacles et théâtre
GEO:48.85786125021200;2.35688668859300
LOCATION:Le Point-Virgule\, 7, rue Sainte-Croix-de-la-Bretonnerie\, 75004 Paris 4e\, France
URL:https://www.fest.fr/e/2370641
UID:2370641-5@fest.fr
END:VEVENT
BEGIN:VEVENT
DTSTART;TZID=Europe/Paris:20260530T211500
DTEND;TZID=Europe/Paris:20260530T221500
SUMMARY:Benjamin Verrecchia - Plein Phare - Le Point Virgule, Paris
CATEGORIE:Spectacles et théâtre
GEO:48.85786125021200;2.35688668859300
LOCATION:Le Point-Virgule\, 7, rue Sainte-Croix-de-la-Bretonnerie\, 75004 Paris 4e\, France
URL:https://www.fest.fr/e/2370641
UID:2370641-6@fest.fr
END:VEVENT
BEGIN:VEVENT
DTSTART;TZID=Europe/Paris:20260605T211500
DTEND;TZID=Europe/Paris:20260605T221500
SUMMARY:Benjamin Verrecchia - Plein Phare - Le Point Virgule, Paris
CATEGORIE:Spectacles et théâtre
GEO:48.85786125021200;2.35688668859300
LOCATION:Le Point-Virgule\, 7, rue Sainte-Croix-de-la-Bretonnerie\, 75004 Paris 4e\, France
URL:https://www.fest.fr/e/2370641
UID:2370641-7@fest.fr
END:VEVENT
BEGIN:VEVENT
DTSTART;TZID=Europe/Paris:20260606T211500
DTEND;TZID=Europe/Paris:20260606T221500
SUMMARY:Benjamin Verrecchia - Plein Phare - Le Point Virgule, Paris
CATEGORIE:Spectacles et théâtre
GEO:48.85786125021200;2.35688668859300
LOCATION:Le Point-Virgule\, 7, rue Sainte-Croix-de-la-Bretonnerie\, 75004 Paris 4e\, France
URL:https://www.fest.fr/e/2370641
UID:2370641-8@fest.fr
END:VEVENT
BEGIN:VEVENT
DTSTART;TZID=Europe/Paris:20260612T211500
DTEND;TZID=Europe/Paris:20260612T221500
SUMMARY:Benjamin Verrecchia - Plein Phare - Le Point Virgule, Paris
CATEGORIE:Spectacles et théâtre
GEO:48.85786125021200;2.35688668859300
LOCATION:Le Point-Virgule\, 7, rue Sainte-Croix-de-la-Bretonnerie\, 75004 Paris 4e\, France
URL:https://www.fest.fr/e/2370641
UID:2370641-9@fest.fr
END:VEVENT
BEGIN:VEVENT
DTSTART;TZID=Europe/Paris:20260613T211500
DTEND;TZID=Europe/Paris:20260613T221500
SUMMARY:Benjamin Verrecchia - Plein Phare - Le Point Virgule, Paris
CATEGORIE:Spectacles et théâtre
GEO:48.85786125021200;2.35688668859300
LOCATION:Le Point-Virgule\, 7, rue Sainte-Croix-de-la-Bretonnerie\, 75004 Paris 4e\, France
URL:https://www.fest.fr/e/2370641
UID:2370641-10@fest.fr
END:VEVENT
BEGIN:VEVENT
DTSTART;TZID=Europe/Paris:20260619T211500
DTEND;TZID=Europe/Paris:20260619T221500
SUMMARY:Benjamin Verrecchia - Plein Phare - Le Point Virgule, Paris
CATEGORIE:Spectacles et théâtre
GEO:48.85786125021200;2.35688668859300
LOCATION:Le Point-Virgule\, 7, rue Sainte-Croix-de-la-Bretonnerie\, 75004 Paris 4e\, France
URL:https://www.fest.fr/e/2370641
UID:2370641-11@fest.fr
END:VEVENT
BEGIN:VEVENT
DTSTART;TZID=Europe/Paris:20260620T211500
DTEND;TZID=Europe/Paris:20260620T221500
SUMMARY:Benjamin Verrecchia - Plein Phare - Le Point Virgule, Paris
CATEGORIE:Spectacles et théâtre
GEO:48.85786125021200;2.35688668859300
LOCATION:Le Point-Virgule\, 7, rue Sainte-Croix-de-la-Bretonnerie\, 75004 Paris 4e\, France
URL:https://www.fest.fr/e/2370641
UID:2370641-12@fest.fr
END:VEVENT
BEGIN:VEVENT
DTSTART;TZID=Europe/Paris:20260626T211500
DTEND;TZID=Europe/Paris:20260626T221500
SUMMARY:Benjamin Verrecchia - Plein Phare - Le Point Virgule, Paris
CATEGORIE:Spectacles et théâtre
GEO:48.85786125021200;2.35688668859300
LOCATION:Le Point-Virgule\, 7, rue Sainte-Croix-de-la-Bretonnerie\, 75004 Paris 4e\, France
URL:https://www.fest.fr/e/2370641
UID:2370641-13@fest.fr
END:VEVENT
BEGIN:VEVENT
DTSTART;TZID=Europe/Paris:20260627T211500
DTEND;TZID=Europe/Paris:20260627T221500
SUMMARY:Benjamin Verrecchia - Plein Phare - Le Point Virgule, Paris
CATEGORIE:Spectacles et théâtre
GEO:48.85786125021200;2.35688668859300
LOCATION:Le Point-Virgule\, 7, rue Sainte-Croix-de-la-Bretonnerie\, 75004 Paris 4e\, France
URL:https://www.fest.fr/e/2370641
UID:2370641-14@fest.fr
END:VEVENT
BEGIN:VEVENT
DTSTART;TZID=Europe/Paris:20260703T211500
DTEND;TZID=Europe/Paris:20260703T221500
SUMMARY:Benjamin Verrecchia - Plein Phare - Le Point Virgule, Paris
CATEGORIE:Spectacles et théâtre
GEO:48.85786125021200;2.35688668859300
LOCATION:Le Point-Virgule\, 7, rue Sainte-Croix-de-la-Bretonnerie\, 75004 Paris 4e\, France
URL:https://www.fest.fr/e/2370641
UID:2370641-15@fest.fr
END:VEVENT
BEGIN:VEVENT
DTSTART;TZID=Europe/Paris:20260704T211500
DTEND;TZID=Europe/Paris:20260704T221500
SUMMARY:Benjamin Verrecchia - Plein Phare - Le Point Virgule, Paris
CATEGORIE:Spectacles et théâtre
GEO:48.85786125021200;2.35688668859300
LOCATION:Le Point-Virgule\, 7, rue Sainte-Croix-de-la-Bretonnerie\, 75004 Paris 4e\, France
URL:https://www.fest.fr/e/2370641
UID:2370641-16@fest.fr
END:VEVENT
BEGIN:VEVENT
DTSTART;TZID=Europe/Paris:20260710T211500
DTEND;TZID=Europe/Paris:20260710T221500
SUMMARY:Benjamin Verrecchia - Plein Phare - Le Point Virgule, Paris
CATEGORIE:Spectacles et théâtre
GEO:48.85786125021200;2.35688668859300
LOCATION:Le Point-Virgule\, 7, rue Sainte-Croix-de-la-Bretonnerie\, 75004 Paris 4e\, France
URL:https://www.fest.fr/e/2370641
UID:2370641-17@fest.fr
END:VEVENT
BEGIN:VEVENT
DTSTART;TZID=Europe/Paris:20260711T211500
DTEND;TZID=Europe/Paris:20260711T221500
SUMMARY:Benjamin Verrecchia - Plein Phare - Le Point Virgule, Paris
CATEGORIE:Spectacles et théâtre
GEO:48.85786125021200;2.35688668859300
LOCATION:Le Point-Virgule\, 7, rue Sainte-Croix-de-la-Bretonnerie\, 75004 Paris 4e\, France
URL:https://www.fest.fr/e/2370641
UID:2370641-18@fest.fr
END:VEVENT
BEGIN:VEVENT
DTSTART;TZID=Europe/Paris:20260717T211500
DTEND;TZID=Europe/Paris:20260717T221500
SUMMARY:Benjamin Verrecchia - Plein Phare - Le Point Virgule, Paris
CATEGORIE:Spectacles et théâtre
GEO:48.85786125021200;2.35688668859300
LOCATION:Le Point-Virgule\, 7, rue Sainte-Croix-de-la-Bretonnerie\, 75004 Paris 4e\, France
URL:https://www.fest.fr/e/2370641
UID:2370641-19@fest.fr
END:VEVENT
BEGIN:VEVENT
DTSTART;TZID=Europe/Paris:20260718T211500
DTEND;TZID=Europe/Paris:20260718T221500
SUMMARY:Benjamin Verrecchia - Plein Phare - Le Point Virgule, Paris
CATEGORIE:Spectacles et théâtre
GEO:48.85786125021200;2.35688668859300
LOCATION:Le Point-Virgule\, 7, rue Sainte-Croix-de-la-Bretonnerie\, 75004 Paris 4e\, France
URL:https://www.fest.fr/e/2370641
UID:2370641-20@fest.fr
END:VEVENT
BEGIN:VEVENT
DTSTART;TZID=Europe/Paris:20260724T211500
DTEND;TZID=Europe/Paris:20260724T221500
SUMMARY:Benjamin Verrecchia - Plein Phare - Le Point Virgule, Paris
CATEGORIE:Spectacles et théâtre
GEO:48.85786125021200;2.35688668859300
LOCATION:Le Point-Virgule\, 7, rue Sainte-Croix-de-la-Bretonnerie\, 75004 Paris 4e\, France
URL:https://www.fest.fr/e/2370641
UID:2370641-21@fest.fr
END:VEVENT
BEGIN:VEVENT
DTSTART;TZID=Europe/Paris:20260725T211500
DTEND;TZID=Europe/Paris:20260725T221500
SUMMARY:Benjamin Verrecchia - Plein Phare - Le Point Virgule, Paris
CATEGORIE:Spectacles et théâtre
GEO:48.85786125021200;2.35688668859300
LOCATION:Le Point-Virgule\, 7, rue Sainte-Croix-de-la-Bretonnerie\, 75004 Paris 4e\, France
URL:https://www.fest.fr/e/2370641
UID:2370641-22@fest.fr
END:VEVENT
BEGIN:VEVENT
DTSTART;TZID=Europe/Paris:20260731T211500
DTEND;TZID=Europe/Paris:20260731T221500
SUMMARY:Benjamin Verrecchia - Plein Phare - Le Point Virgule, Paris
CATEGORIE:Spectacles et théâtre
GEO:48.85786125021200;2.35688668859300
LOCATION:Le Point-Virgule\, 7, rue Sainte-Croix-de-la-Bretonnerie\, 75004 Paris 4e\, France
URL:https://www.fest.fr/e/2370641
UID:2370641-23@fest.fr
END:VEVENT
BEGIN:VEVENT
DTSTART;TZID=Europe/Paris:20260801T211500
DTEND;TZID=Europe/Paris:20260801T221500
SUMMARY:Benjamin Verrecchia - Plein Phare - Le Point Virgule, Paris
CATEGORIE:Spectacles et théâtre
GEO:48.85786125021200;2.35688668859300
LOCATION:Le Point-Virgule\, 7, rue Sainte-Croix-de-la-Bretonnerie\, 75004 Paris 4e\, France
URL:https://www.fest.fr/e/2370641
UID:2370641-24@fest.fr
END:VEVENT
END:VCALENDAR
