BEGIN:VCALENDAR
CALSCALE:GREGORIAN
VERSION:2.0
METHOD:PUBLISH 
X-WR-CALNAME:
BEGIN:VEVENT
DTSTART;TZID=Europe/Paris:20260422T190000
DTEND;TZID=Europe/Paris:20260422T200000
SUMMARY:Chansons Impossibles - Théâtre de l'Essaïon, Paris
CATEGORIE:Spectacles et théâtre
GEO:48.85979289292700;2.35321896663000
LOCATION:Essaïon - Salle Cabaret\, 6, rue Pierre-au-Lard\, 75004 Paris 4e\, France
URL:https://www.fest.fr/e/2370610
UID:2370610-1@fest.fr
END:VEVENT
BEGIN:VEVENT
DTSTART;TZID=Europe/Paris:20260429T190000
DTEND;TZID=Europe/Paris:20260429T200000
SUMMARY:Chansons Impossibles - Théâtre de l'Essaïon, Paris
CATEGORIE:Spectacles et théâtre
GEO:48.85979289292700;2.35321896663000
LOCATION:Essaïon - Salle Cabaret\, 6, rue Pierre-au-Lard\, 75004 Paris 4e\, France
URL:https://www.fest.fr/e/2370610
UID:2370610-2@fest.fr
END:VEVENT
BEGIN:VEVENT
DTSTART;TZID=Europe/Paris:20260506T190000
DTEND;TZID=Europe/Paris:20260506T200000
SUMMARY:Chansons Impossibles - Théâtre de l'Essaïon, Paris
CATEGORIE:Spectacles et théâtre
GEO:48.85979289292700;2.35321896663000
LOCATION:Essaïon - Salle Cabaret\, 6, rue Pierre-au-Lard\, 75004 Paris 4e\, France
URL:https://www.fest.fr/e/2370610
UID:2370610-3@fest.fr
END:VEVENT
BEGIN:VEVENT
DTSTART;TZID=Europe/Paris:20260513T190000
DTEND;TZID=Europe/Paris:20260513T200000
SUMMARY:Chansons Impossibles - Théâtre de l'Essaïon, Paris
CATEGORIE:Spectacles et théâtre
GEO:48.85979289292700;2.35321896663000
LOCATION:Essaïon - Salle Cabaret\, 6, rue Pierre-au-Lard\, 75004 Paris 4e\, France
URL:https://www.fest.fr/e/2370610
UID:2370610-4@fest.fr
END:VEVENT
BEGIN:VEVENT
DTSTART;TZID=Europe/Paris:20260520T190000
DTEND;TZID=Europe/Paris:20260520T200000
SUMMARY:Chansons Impossibles - Théâtre de l'Essaïon, Paris
CATEGORIE:Spectacles et théâtre
GEO:48.85979289292700;2.35321896663000
LOCATION:Essaïon - Salle Cabaret\, 6, rue Pierre-au-Lard\, 75004 Paris 4e\, France
URL:https://www.fest.fr/e/2370610
UID:2370610-5@fest.fr
END:VEVENT
BEGIN:VEVENT
DTSTART;TZID=Europe/Paris:20260527T190000
DTEND;TZID=Europe/Paris:20260527T200000
SUMMARY:Chansons Impossibles - Théâtre de l'Essaïon, Paris
CATEGORIE:Spectacles et théâtre
GEO:48.85979289292700;2.35321896663000
LOCATION:Essaïon - Salle Cabaret\, 6, rue Pierre-au-Lard\, 75004 Paris 4e\, France
URL:https://www.fest.fr/e/2370610
UID:2370610-6@fest.fr
END:VEVENT
BEGIN:VEVENT
DTSTART;TZID=Europe/Paris:20260603T190000
DTEND;TZID=Europe/Paris:20260603T200000
SUMMARY:Chansons Impossibles - Théâtre de l'Essaïon, Paris
CATEGORIE:Spectacles et théâtre
GEO:48.85979289292700;2.35321896663000
LOCATION:Essaïon - Salle Cabaret\, 6, rue Pierre-au-Lard\, 75004 Paris 4e\, France
URL:https://www.fest.fr/e/2370610
UID:2370610-7@fest.fr
END:VEVENT
BEGIN:VEVENT
DTSTART;TZID=Europe/Paris:20260610T190000
DTEND;TZID=Europe/Paris:20260610T200000
SUMMARY:Chansons Impossibles - Théâtre de l'Essaïon, Paris
CATEGORIE:Spectacles et théâtre
GEO:48.85979289292700;2.35321896663000
LOCATION:Essaïon - Salle Cabaret\, 6, rue Pierre-au-Lard\, 75004 Paris 4e\, France
URL:https://www.fest.fr/e/2370610
UID:2370610-8@fest.fr
END:VEVENT
BEGIN:VEVENT
DTSTART;TZID=Europe/Paris:20260617T190000
DTEND;TZID=Europe/Paris:20260617T200000
SUMMARY:Chansons Impossibles - Théâtre de l'Essaïon, Paris
CATEGORIE:Spectacles et théâtre
GEO:48.85979289292700;2.35321896663000
LOCATION:Essaïon - Salle Cabaret\, 6, rue Pierre-au-Lard\, 75004 Paris 4e\, France
URL:https://www.fest.fr/e/2370610
UID:2370610-9@fest.fr
END:VEVENT
BEGIN:VEVENT
DTSTART;TZID=Europe/Paris:20260624T190000
DTEND;TZID=Europe/Paris:20260624T200000
SUMMARY:Chansons Impossibles - Théâtre de l'Essaïon, Paris
CATEGORIE:Spectacles et théâtre
GEO:48.85979289292700;2.35321896663000
LOCATION:Essaïon - Salle Cabaret\, 6, rue Pierre-au-Lard\, 75004 Paris 4e\, France
URL:https://www.fest.fr/e/2370610
UID:2370610-10@fest.fr
END:VEVENT
END:VCALENDAR
