BEGIN:VCALENDAR
CALSCALE:GREGORIAN
VERSION:2.0
METHOD:PUBLISH 
X-WR-CALNAME:
BEGIN:VEVENT
DTSTART;TZID=Europe/Paris:20260530T200000
DTEND;TZID=Europe/Paris:20260530T210000
SUMMARY:Rivages
CATEGORIE:Spectacles et Théâtre
GEO:47.12087600000000;-2.16807200000000
LOCATION:Pornic\, 220 Les Fontenis\, 44210 Pornic\, France
URL:https://www.fest.fr/e/2370558
UID:2370558-1@fest.fr
END:VEVENT
END:VCALENDAR
