BEGIN:VCALENDAR
CALSCALE:GREGORIAN
VERSION:2.0
METHOD:PUBLISH 
X-WR-CALNAME:
BEGIN:VEVENT
DTSTART;TZID=Europe/Paris:20260510T093000
DTEND;TZID=Europe/Paris:20260510T103000
SUMMARY:A Vélo !!
CATEGORIE:Randonnées et balades
GEO:43.61032300000000;3.89663000000000
LOCATION:Allée alegria Beracasa\, Maison du Lez\, 34064 Montpellier\, France
URL:https://www.fest.fr/e/2370383
UID:2370383-1@fest.fr
END:VEVENT
END:VCALENDAR
