BEGIN:VCALENDAR
CALSCALE:GREGORIAN
VERSION:2.0
METHOD:PUBLISH 
X-WR-CALNAME:
BEGIN:VEVENT
DTSTART;TZID=Europe/Paris:20260304T140000
DTEND;TZID=Europe/Paris:20260304T150000
SUMMARY:Répare & Vélo
CATEGORIE:Stages, Ateliers et Initiations
GEO:43.73026609482128;3.32017417250898
LOCATION:Hall d'entrée de la Ressourcerie\, 17, Boulevard Jean Jaurès\, 34700 Lodève\, France
URL:https://www.fest.fr/e/2370354
UID:2370354-1@fest.fr
END:VEVENT
BEGIN:VEVENT
DTSTART;TZID=Europe/Paris:20260311T140000
DTEND;TZID=Europe/Paris:20260311T150000
SUMMARY:Répare & Vélo
CATEGORIE:Stages, Ateliers et Initiations
GEO:43.73026609482128;3.32017417250898
LOCATION:Hall d'entrée de la Ressourcerie\, 17, Boulevard Jean Jaurès\, 34700 Lodève\, France
URL:https://www.fest.fr/e/2370354
UID:2370354-2@fest.fr
END:VEVENT
BEGIN:VEVENT
DTSTART;TZID=Europe/Paris:20260318T140000
DTEND;TZID=Europe/Paris:20260318T150000
SUMMARY:Répare & Vélo
CATEGORIE:Stages, Ateliers et Initiations
GEO:43.73026609482128;3.32017417250898
LOCATION:Hall d'entrée de la Ressourcerie\, 17, Boulevard Jean Jaurès\, 34700 Lodève\, France
URL:https://www.fest.fr/e/2370354
UID:2370354-3@fest.fr
END:VEVENT
BEGIN:VEVENT
DTSTART;TZID=Europe/Paris:20260325T140000
DTEND;TZID=Europe/Paris:20260325T150000
SUMMARY:Répare & Vélo
CATEGORIE:Stages, Ateliers et Initiations
GEO:43.73026609482128;3.32017417250898
LOCATION:Hall d'entrée de la Ressourcerie\, 17, Boulevard Jean Jaurès\, 34700 Lodève\, France
URL:https://www.fest.fr/e/2370354
UID:2370354-4@fest.fr
END:VEVENT
BEGIN:VEVENT
DTSTART;TZID=Europe/Paris:20260401T140000
DTEND;TZID=Europe/Paris:20260401T150000
SUMMARY:Répare & Vélo
CATEGORIE:Stages, Ateliers et Initiations
GEO:43.73026609482128;3.32017417250898
LOCATION:Hall d'entrée de la Ressourcerie\, 17, Boulevard Jean Jaurès\, 34700 Lodève\, France
URL:https://www.fest.fr/e/2370354
UID:2370354-5@fest.fr
END:VEVENT
BEGIN:VEVENT
DTSTART;TZID=Europe/Paris:20260408T140000
DTEND;TZID=Europe/Paris:20260408T150000
SUMMARY:Répare & Vélo
CATEGORIE:Stages, Ateliers et Initiations
GEO:43.73026609482128;3.32017417250898
LOCATION:Hall d'entrée de la Ressourcerie\, 17, Boulevard Jean Jaurès\, 34700 Lodève\, France
URL:https://www.fest.fr/e/2370354
UID:2370354-6@fest.fr
END:VEVENT
BEGIN:VEVENT
DTSTART;TZID=Europe/Paris:20260415T140000
DTEND;TZID=Europe/Paris:20260415T150000
SUMMARY:Répare & Vélo
CATEGORIE:Stages, Ateliers et Initiations
GEO:43.73026609482128;3.32017417250898
LOCATION:Hall d'entrée de la Ressourcerie\, 17, Boulevard Jean Jaurès\, 34700 Lodève\, France
URL:https://www.fest.fr/e/2370354
UID:2370354-7@fest.fr
END:VEVENT
BEGIN:VEVENT
DTSTART;TZID=Europe/Paris:20260422T140000
DTEND;TZID=Europe/Paris:20260422T150000
SUMMARY:Répare & Vélo
CATEGORIE:Stages, Ateliers et Initiations
GEO:43.73026609482128;3.32017417250898
LOCATION:Hall d'entrée de la Ressourcerie\, 17, Boulevard Jean Jaurès\, 34700 Lodève\, France
URL:https://www.fest.fr/e/2370354
UID:2370354-8@fest.fr
END:VEVENT
BEGIN:VEVENT
DTSTART;TZID=Europe/Paris:20260429T140000
DTEND;TZID=Europe/Paris:20260429T150000
SUMMARY:Répare & Vélo
CATEGORIE:Stages, Ateliers et Initiations
GEO:43.73026609482128;3.32017417250898
LOCATION:Hall d'entrée de la Ressourcerie\, 17, Boulevard Jean Jaurès\, 34700 Lodève\, France
URL:https://www.fest.fr/e/2370354
UID:2370354-9@fest.fr
END:VEVENT
BEGIN:VEVENT
DTSTART;TZID=Europe/Paris:20260506T140000
DTEND;TZID=Europe/Paris:20260506T150000
SUMMARY:Répare & Vélo
CATEGORIE:Stages, Ateliers et Initiations
GEO:43.73026609482128;3.32017417250898
LOCATION:Hall d'entrée de la Ressourcerie\, 17, Boulevard Jean Jaurès\, 34700 Lodève\, France
URL:https://www.fest.fr/e/2370354
UID:2370354-10@fest.fr
END:VEVENT
BEGIN:VEVENT
DTSTART;TZID=Europe/Paris:20260513T140000
DTEND;TZID=Europe/Paris:20260513T150000
SUMMARY:Répare & Vélo
CATEGORIE:Stages, Ateliers et Initiations
GEO:43.73026609482128;3.32017417250898
LOCATION:Hall d'entrée de la Ressourcerie\, 17, Boulevard Jean Jaurès\, 34700 Lodève\, France
URL:https://www.fest.fr/e/2370354
UID:2370354-11@fest.fr
END:VEVENT
BEGIN:VEVENT
DTSTART;TZID=Europe/Paris:20260520T140000
DTEND;TZID=Europe/Paris:20260520T150000
SUMMARY:Répare & Vélo
CATEGORIE:Stages, Ateliers et Initiations
GEO:43.73026609482128;3.32017417250898
LOCATION:Hall d'entrée de la Ressourcerie\, 17, Boulevard Jean Jaurès\, 34700 Lodève\, France
URL:https://www.fest.fr/e/2370354
UID:2370354-12@fest.fr
END:VEVENT
BEGIN:VEVENT
DTSTART;TZID=Europe/Paris:20260527T140000
DTEND;TZID=Europe/Paris:20260527T150000
SUMMARY:Répare & Vélo
CATEGORIE:Stages, Ateliers et Initiations
GEO:43.73026609482128;3.32017417250898
LOCATION:Hall d'entrée de la Ressourcerie\, 17, Boulevard Jean Jaurès\, 34700 Lodève\, France
URL:https://www.fest.fr/e/2370354
UID:2370354-13@fest.fr
END:VEVENT
BEGIN:VEVENT
DTSTART;TZID=Europe/Paris:20260603T140000
DTEND;TZID=Europe/Paris:20260603T150000
SUMMARY:Répare & Vélo
CATEGORIE:Stages, Ateliers et Initiations
GEO:43.73026609482128;3.32017417250898
LOCATION:Hall d'entrée de la Ressourcerie\, 17, Boulevard Jean Jaurès\, 34700 Lodève\, France
URL:https://www.fest.fr/e/2370354
UID:2370354-14@fest.fr
END:VEVENT
BEGIN:VEVENT
DTSTART;TZID=Europe/Paris:20260610T140000
DTEND;TZID=Europe/Paris:20260610T150000
SUMMARY:Répare & Vélo
CATEGORIE:Stages, Ateliers et Initiations
GEO:43.73026609482128;3.32017417250898
LOCATION:Hall d'entrée de la Ressourcerie\, 17, Boulevard Jean Jaurès\, 34700 Lodève\, France
URL:https://www.fest.fr/e/2370354
UID:2370354-15@fest.fr
END:VEVENT
BEGIN:VEVENT
DTSTART;TZID=Europe/Paris:20260617T140000
DTEND;TZID=Europe/Paris:20260617T150000
SUMMARY:Répare & Vélo
CATEGORIE:Stages, Ateliers et Initiations
GEO:43.73026609482128;3.32017417250898
LOCATION:Hall d'entrée de la Ressourcerie\, 17, Boulevard Jean Jaurès\, 34700 Lodève\, France
URL:https://www.fest.fr/e/2370354
UID:2370354-16@fest.fr
END:VEVENT
BEGIN:VEVENT
DTSTART;TZID=Europe/Paris:20260624T140000
DTEND;TZID=Europe/Paris:20260624T150000
SUMMARY:Répare & Vélo
CATEGORIE:Stages, Ateliers et Initiations
GEO:43.73026609482128;3.32017417250898
LOCATION:Hall d'entrée de la Ressourcerie\, 17, Boulevard Jean Jaurès\, 34700 Lodève\, France
URL:https://www.fest.fr/e/2370354
UID:2370354-17@fest.fr
END:VEVENT
END:VCALENDAR
