BEGIN:VCALENDAR
CALSCALE:GREGORIAN
VERSION:2.0
METHOD:PUBLISH 
X-WR-CALNAME:
BEGIN:VEVENT
DTSTART;TZID=Europe/Paris:20260820T163000
DTEND;TZID=Europe/Paris:20260820T173000
SUMMARY:Apéro archéo'jeux
CATEGORIE:Expositions, Visites et Découvertes
GEO:46.13908200000000;-0.66839800000000
LOCATION:25 bis rue des Tilleuls
Site archéologique - Villa Gallo Romaine\, 17700 Saint-Georges-du-Bois\, France
URL:https://www.fest.fr/e/2370119
UID:2370119-1@fest.fr
END:VEVENT
END:VCALENDAR
