BEGIN:VCALENDAR
CALSCALE:GREGORIAN
VERSION:2.0
METHOD:PUBLISH 
X-WR-CALNAME:
BEGIN:VEVENT
DTSTART;TZID=Europe/Paris:20260312T150000
DTEND;TZID=Europe/Paris:20260312T160000
SUMMARY:Spectacle - Le Bulbe du Glagueule
CATEGORIE:Spectacles et Théâtre
GEO:48.68899400000000;6.18379400000000
LOCATION:126 bis rue Saint Dizier\, 54000 Nancy\, France
URL:https://www.fest.fr/e/2370073
UID:2370073-1@fest.fr
END:VEVENT
BEGIN:VEVENT
DTSTART;TZID=Europe/Paris:20260312T190000
DTEND;TZID=Europe/Paris:20260312T200000
SUMMARY:Spectacle - Le Bulbe du Glagueule
CATEGORIE:Spectacles et Théâtre
GEO:48.68899400000000;6.18379400000000
LOCATION:126 bis rue Saint Dizier\, 54000 Nancy\, France
URL:https://www.fest.fr/e/2370073
UID:2370073-2@fest.fr
END:VEVENT
END:VCALENDAR
