BEGIN:VCALENDAR
CALSCALE:GREGORIAN
VERSION:2.0
METHOD:PUBLISH 
X-WR-CALNAME:
BEGIN:VEVENT
DTSTART;TZID=Europe/Paris:20261009T200000
DTEND;TZID=Europe/Paris:20261009T210000
SUMMARY:Banned From Utopia Tribute Frank Zappa
CATEGORIE:Concerts et Musique
GEO:48.09279880000000;7.37046030000000
LOCATION:Le Grillen\, Rue des Jardins\, 68000 Colmar\, France
URL:https://www.fest.fr/e/2370031
UID:2370031-1@fest.fr
END:VEVENT
END:VCALENDAR
