BEGIN:VCALENDAR
CALSCALE:GREGORIAN
VERSION:2.0
METHOD:PUBLISH 
X-WR-CALNAME:
BEGIN:VEVENT
DTSTART;TZID=Europe/Paris:20260307T110000
DTEND;TZID=Europe/Paris:20260307T120000
SUMMARY:10 ans de L'Atelier
CATEGORIE:Expositions, Visites et Découvertes
GEO:48.34084723442567;2.70997110676205
LOCATION:Espace Jean Renoir (à côté de la mairie)\, 139 rue du Général de Gaulle\, 77780 Bourron-Marlotte\, France
URL:https://www.fest.fr/e/2369997
UID:2369997-1@fest.fr
END:VEVENT
BEGIN:VEVENT
DTSTART;TZID=Europe/Paris:20260308T110000
DTEND;TZID=Europe/Paris:20260308T120000
SUMMARY:10 ans de L'Atelier
CATEGORIE:Expositions, Visites et Découvertes
GEO:48.34084723442567;2.70997110676205
LOCATION:Espace Jean Renoir (à côté de la mairie)\, 139 rue du Général de Gaulle\, 77780 Bourron-Marlotte\, France
URL:https://www.fest.fr/e/2369997
UID:2369997-2@fest.fr
END:VEVENT
BEGIN:VEVENT
DTSTART;TZID=Europe/Paris:20260314T110000
DTEND;TZID=Europe/Paris:20260314T120000
SUMMARY:10 ans de L'Atelier
CATEGORIE:Expositions, Visites et Découvertes
GEO:48.34084723442567;2.70997110676205
LOCATION:Espace Jean Renoir (à côté de la mairie)\, 139 rue du Général de Gaulle\, 77780 Bourron-Marlotte\, France
URL:https://www.fest.fr/e/2369997
UID:2369997-3@fest.fr
END:VEVENT
BEGIN:VEVENT
DTSTART;TZID=Europe/Paris:20260315T110000
DTEND;TZID=Europe/Paris:20260315T120000
SUMMARY:10 ans de L'Atelier
CATEGORIE:Expositions, Visites et Découvertes
GEO:48.34084723442567;2.70997110676205
LOCATION:Espace Jean Renoir (à côté de la mairie)\, 139 rue du Général de Gaulle\, 77780 Bourron-Marlotte\, France
URL:https://www.fest.fr/e/2369997
UID:2369997-4@fest.fr
END:VEVENT
END:VCALENDAR
