BEGIN:VCALENDAR
CALSCALE:GREGORIAN
VERSION:2.0
METHOD:PUBLISH 
X-WR-CALNAME:
BEGIN:VEVENT
DTSTART;TZID=Europe/Paris:20260704T193000
DTEND;TZID=Europe/Paris:20260704T203000
SUMMARY:Soirée Enquête : « Le Trésor de Gaston »
CATEGORIE:Jeux et Concours
GEO:48.06384610000000;2.15204750000000
LOCATION:Route de Gallerand\, 45170 Neuville-aux-Bois\, France
URL:https://www.fest.fr/e/2369623
UID:2369623-1@fest.fr
END:VEVENT
END:VCALENDAR
