BEGIN:VCALENDAR
CALSCALE:GREGORIAN
VERSION:2.0
METHOD:PUBLISH 
X-WR-CALNAME:
BEGIN:VEVENT
DTSTART;TZID=Europe/Paris:20260926T080000
DTEND;TZID=Europe/Paris:20260926T090000
SUMMARY:Autodrome Italian Meeting
CATEGORIE:Marchés, Foires et Salons
GEO:48.62416000000000;2.24627800000000
LOCATION:Autodrome Linas-Montlhéry
Avenue Georges Boillot 91310 Linas\, 91310 Linas\, France
URL:https://www.fest.fr/e/2369538
UID:2369538-1@fest.fr
END:VEVENT
END:VCALENDAR
