BEGIN:VCALENDAR
CALSCALE:GREGORIAN
VERSION:2.0
METHOD:PUBLISH 
X-WR-CALNAME:
BEGIN:VEVENT
DTSTART;TZID=Europe/Paris:20260725T200000
DTEND;TZID=Europe/Paris:20260725T210000
SUMMARY:Concert | La Belle Roulotte
CATEGORIE:Concerts et Musique
GEO:45.12471400000000;3.48624900000000
LOCATION:La Belle Roulotte
Reilhac\, 43300 Mazeyrat-d'Allier\, France
URL:https://www.fest.fr/e/2369531
UID:2369531-1@fest.fr
END:VEVENT
END:VCALENDAR
