BEGIN:VCALENDAR
CALSCALE:GREGORIAN
VERSION:2.0
METHOD:PUBLISH 
X-WR-CALNAME:
BEGIN:VEVENT
DTSTART;TZID=Europe/Paris:20260603T100000
DTEND;TZID=Europe/Paris:20260603T110000
SUMMARY:Visite guidée de la chapellerie Crambes
CATEGORIE:Expositions, Visites et Découvertes
GEO:44.16413100000000;1.54536000000000
LOCATION:42 avenue de Lattre de Tassigny\, 82300 Caussade\, France
URL:https://www.fest.fr/e/2369470
UID:2369470-1@fest.fr
END:VEVENT
BEGIN:VEVENT
DTSTART;TZID=Europe/Paris:20260605T100000
DTEND;TZID=Europe/Paris:20260605T110000
SUMMARY:Visite guidée de la chapellerie Crambes
CATEGORIE:Expositions, Visites et Découvertes
GEO:44.16413100000000;1.54536000000000
LOCATION:42 avenue de Lattre de Tassigny\, 82300 Caussade\, France
URL:https://www.fest.fr/e/2369470
UID:2369470-2@fest.fr
END:VEVENT
BEGIN:VEVENT
DTSTART;TZID=Europe/Paris:20260610T100000
DTEND;TZID=Europe/Paris:20260610T110000
SUMMARY:Visite guidée de la chapellerie Crambes
CATEGORIE:Expositions, Visites et Découvertes
GEO:44.16413100000000;1.54536000000000
LOCATION:42 avenue de Lattre de Tassigny\, 82300 Caussade\, France
URL:https://www.fest.fr/e/2369470
UID:2369470-3@fest.fr
END:VEVENT
END:VCALENDAR
