BEGIN:VCALENDAR
CALSCALE:GREGORIAN
VERSION:2.0
METHOD:PUBLISH 
X-WR-CALNAME:
BEGIN:VEVENT
DTSTART;TZID=Europe/Paris:20260522T210000
DTEND;TZID=Europe/Paris:20260522T220000
SUMMARY:Spectacle Astragale 2026 - Il est où le Bonheur
CATEGORIE:Concerts et Musique
GEO:46.20647500000000;5.22559900000000
LOCATION:Esplanade de la Comédie
Théâtre de Bourg-en-Bresse\, 01000 Bourg-en-Bresse\, France
URL:https://www.fest.fr/e/2369460
UID:2369460-1@fest.fr
END:VEVENT
BEGIN:VEVENT
DTSTART;TZID=Europe/Paris:20260524T170000
DTEND;TZID=Europe/Paris:20260524T180000
SUMMARY:Spectacle Astragale 2026 - Il est où le Bonheur
CATEGORIE:Concerts et Musique
GEO:46.20647500000000;5.22559900000000
LOCATION:Esplanade de la Comédie
Théâtre de Bourg-en-Bresse\, 01000 Bourg-en-Bresse\, France
URL:https://www.fest.fr/e/2369460
UID:2369460-2@fest.fr
END:VEVENT
END:VCALENDAR
