BEGIN:VCALENDAR
CALSCALE:GREGORIAN
VERSION:2.0
METHOD:PUBLISH 
X-WR-CALNAME:
BEGIN:VEVENT
DTSTART;TZID=Europe/Paris:20260613T150000
DTEND;TZID=Europe/Paris:20260613T160000
SUMMARY:Conférence sur le collectionnisme par Nathalie Richard
CATEGORIE:Conférences, Forums et Débats
GEO:47.44022000000000;-0.21774900000000
LOCATION:Musée Joseph-Denais\, 5 Place Notre-Dame\, 49250 Beaufort-en-Anjou\, France
URL:https://www.fest.fr/e/2369301
UID:2369301-1@fest.fr
END:VEVENT
END:VCALENDAR
