BEGIN:VCALENDAR
CALSCALE:GREGORIAN
VERSION:2.0
METHOD:PUBLISH 
X-WR-CALNAME:
BEGIN:VEVENT
DTSTART;TZID=Europe/Paris:20260411T150000
DTEND;TZID=Europe/Paris:20260411T160000
SUMMARY:Initiation jeux vidéo
CATEGORIE:Stages, Ateliers et Initiations
GEO:47.79391001413524;3.57571471813456
LOCATION:Bibliothèque Jacques-Lacarrière\, Allée du panier vert\, 89000 Auxerre\, France
URL:https://www.fest.fr/e/2369209
UID:2369209-1@fest.fr
END:VEVENT
END:VCALENDAR
