BEGIN:VCALENDAR
CALSCALE:GREGORIAN
VERSION:2.0
METHOD:PUBLISH 
X-WR-CALNAME:
BEGIN:VEVENT
DTSTART;TZID=Europe/Paris:20260315T203000
DTEND;TZID=Europe/Paris:20260315T213000
SUMMARY:Banquise + Missing No. + Daweed O.G + Ascend
CATEGORIE:Concerts et Musique
GEO:43.29258900000000;5.38308200000000
LOCATION:3 Place Paul Cézanne
Le Molotov\, 13006 Marseille 6e\, France
URL:https://www.fest.fr/e/2369103
UID:2369103-1@fest.fr
END:VEVENT
END:VCALENDAR
