BEGIN:VCALENDAR
CALSCALE:GREGORIAN
VERSION:2.0
METHOD:PUBLISH 
X-WR-CALNAME:
BEGIN:VEVENT
DTSTART;TZID=Europe/Paris:20260826T093000
DTEND;TZID=Europe/Paris:20260826T103000
SUMMARY:Balade découverte de l'île de Marckolsheim
CATEGORIE:Randonnées et balades
GEO:48.14950794011420;7.59763606595517
LOCATION:Hameau du Rhin\, 67390 Marckolsheim\, France
URL:https://www.fest.fr/e/2368957
UID:2368957-1@fest.fr
END:VEVENT
END:VCALENDAR
