BEGIN:VCALENDAR
CALSCALE:GREGORIAN
VERSION:2.0
METHOD:PUBLISH 
X-WR-CALNAME:
BEGIN:VEVENT
DTSTART;TZID=Europe/Paris:20270219T203000
DTEND;TZID=Europe/Paris:20270219T213000
SUMMARY:Pierre Thevenoux - Life Coach - Tournée
CATEGORIE:Spectacles et théâtre
GEO:48.56310135129500;2.42894400621000
LOCATION:Espace culture Jean-Jacques Robert\, 7, Avenue de Villeroy\, 91540 Mennecy\, France
URL:https://www.fest.fr/e/2368786
UID:2368786-1@fest.fr
END:VEVENT
END:VCALENDAR
