BEGIN:VCALENDAR
CALSCALE:GREGORIAN
VERSION:2.0
METHOD:PUBLISH 
X-WR-CALNAME:
BEGIN:VEVENT
DTSTART;TZID=Europe/Paris:20260409T183000
DTEND;TZID=Europe/Paris:20260409T193000
SUMMARY:[Conférence] Grande célébration des ponts de Normandie
CATEGORIE:Conférences, Forums et Débats
GEO:49.92597290000000;1.07957040000000
LOCATION:/ 14 Rue Notre Dame
Maison des Associations\, 76200 Dieppe\, France
URL:https://www.fest.fr/e/2368741
UID:2368741-1@fest.fr
END:VEVENT
END:VCALENDAR
