BEGIN:VCALENDAR
CALSCALE:GREGORIAN
VERSION:2.0
METHOD:PUBLISH 
X-WR-CALNAME:
BEGIN:VEVENT
DTSTART;TZID=Europe/Paris:20260507T200000
DTEND;TZID=Europe/Paris:20260507T210000
SUMMARY:Concert | Benin International Musical (BIM)
CATEGORIE:Concerts et Musique
GEO:49.24659000000000;2.47112000000000
LOCATION:Boulevard Salvador Allende\, 60100 Creil\, France
URL:https://www.fest.fr/e/2368695
UID:2368695-1@fest.fr
END:VEVENT
END:VCALENDAR
