BEGIN:VCALENDAR
CALSCALE:GREGORIAN
VERSION:2.0
METHOD:PUBLISH 
X-WR-CALNAME:
BEGIN:VEVENT
DTSTART;TZID=Europe/Paris:20260709T140000
DTEND;TZID=Europe/Paris:20260709T150000
SUMMARY:Atelier : Jouets buissonniers à la pointe de l'opinel
CATEGORIE:Stages, Ateliers et Initiations
GEO:45.93963100000000;6.76726700000000
LOCATION:2231 route du Mont
Maison du Lieutenant\, 74310 Servoz\, France
URL:https://www.fest.fr/e/2368520
UID:2368520-1@fest.fr
END:VEVENT
END:VCALENDAR
