BEGIN:VCALENDAR
CALSCALE:GREGORIAN
VERSION:2.0
METHOD:PUBLISH 
X-WR-CALNAME:
BEGIN:VEVENT
DTSTART;TZID=Europe/Paris:20260417T160000
DTEND;TZID=Europe/Paris:20260417T170000
SUMMARY:Atelier créatif: ex-voto
CATEGORIE:Stages, Ateliers et Initiations
GEO:45.23214500000000;4.40100300000000
LOCATION:Mairie\, 43220 Riotord\, France
URL:https://www.fest.fr/e/2368433
UID:2368433-1@fest.fr
END:VEVENT
END:VCALENDAR
