BEGIN:VCALENDAR
CALSCALE:GREGORIAN
VERSION:2.0
METHOD:PUBLISH 
X-WR-CALNAME:
BEGIN:VEVENT
DTSTART;TZID=Europe/Paris:20260529T203000
DTEND;TZID=Europe/Paris:20260529T213000
SUMMARY:Fugueuses - Myriam Jaskiewicz et Héloïse Pia
CATEGORIE:Spectacles et Théâtre
GEO:49.50849650000000;4.36627560000000
LOCATION:Le Régal & Vous - Salle L'Odyssée\, 3 Boulevard de la 2E Div d'Infanterie\, 08300 Rethel\, France
URL:https://www.fest.fr/e/2368275
UID:2368275-1@fest.fr
END:VEVENT
BEGIN:VEVENT
DTSTART;TZID=Europe/Paris:20260530T203000
DTEND;TZID=Europe/Paris:20260530T213000
SUMMARY:Fugueuses - Myriam Jaskiewicz et Héloïse Pia
CATEGORIE:Spectacles et Théâtre
GEO:49.50849650000000;4.36627560000000
LOCATION:Le Régal & Vous - Salle L'Odyssée\, 3 Boulevard de la 2E Div d'Infanterie\, 08300 Rethel\, France
URL:https://www.fest.fr/e/2368275
UID:2368275-2@fest.fr
END:VEVENT
END:VCALENDAR
