BEGIN:VCALENDAR
CALSCALE:GREGORIAN
VERSION:2.0
METHOD:PUBLISH 
X-WR-CALNAME:
BEGIN:VEVENT
DTSTART;TZID=Europe/Paris:20260606T100000
DTEND;TZID=Europe/Paris:20260606T110000
SUMMARY:Rendez-vous aux jardins de la Croze
CATEGORIE:Expositions, Visites et Découvertes
GEO:45.72599400000000;3.34517900000000
LOCATION:Jardins de La Croze\, Chemin de La Croze, Puy-de-Dôme, Auvergne-Rhône-Alpes\, 63160 Billom\, France
URL:https://www.fest.fr/e/2368221
UID:2368221-1@fest.fr
END:VEVENT
BEGIN:VEVENT
DTSTART;TZID=Europe/Paris:20260607T100000
DTEND;TZID=Europe/Paris:20260607T110000
SUMMARY:Rendez-vous aux jardins de la Croze
CATEGORIE:Expositions, Visites et Découvertes
GEO:45.72599400000000;3.34517900000000
LOCATION:Jardins de La Croze\, Chemin de La Croze, Puy-de-Dôme, Auvergne-Rhône-Alpes\, 63160 Billom\, France
URL:https://www.fest.fr/e/2368221
UID:2368221-2@fest.fr
END:VEVENT
END:VCALENDAR
