BEGIN:VCALENDAR
CALSCALE:GREGORIAN
VERSION:2.0
METHOD:PUBLISH 
X-WR-CALNAME:
BEGIN:VEVENT
DTSTART;TZID=Europe/Paris:20260417T190000
DTEND;TZID=Europe/Paris:20260417T200000
SUMMARY:Soirée pyjama : venez fêter les vacances avec nous !
CATEGORIE:Littérature
GEO:43.56719700000000;1.40069300000000
LOCATION:Médiathèque Grand M\, 37 Avenue de Reynerie\, 31100 Toulouse\, France
URL:https://www.fest.fr/e/2368202
UID:2368202-1@fest.fr
END:VEVENT
END:VCALENDAR
