BEGIN:VCALENDAR
CALSCALE:GREGORIAN
VERSION:2.0
METHOD:PUBLISH 
X-WR-CALNAME:
BEGIN:VEVENT
DTSTART;TZID=Europe/Paris:20260520T140000
DTEND;TZID=Europe/Paris:20260520T150000
SUMMARY:Jeux de société autour du manga
CATEGORIE:Jeux et Concours
GEO:43.63825200000000;1.44399300000000
LOCATION:Médiathèque des Izards\, 1 place Micoulaud\, 31200 Toulouse\, France
URL:https://www.fest.fr/e/2368188
UID:2368188-1@fest.fr
END:VEVENT
END:VCALENDAR
