BEGIN:VCALENDAR
CALSCALE:GREGORIAN
VERSION:2.0
METHOD:PUBLISH 
X-WR-CALNAME:
BEGIN:VEVENT
DTSTART;TZID=Europe/Paris:20260311T193000
DTEND;TZID=Europe/Paris:20260311T203000
SUMMARY:Sailorz Film Festival 2026 - La voile de compétition sur écran géant
CATEGORIE:Expositions, Visites et Découvertes
LOCATION:Cinéma Grand Palace\, Boulevard du Souvenir Français\, 85100 Les Sables-d'Olonne\, France
URL:https://www.fest.fr/e/2368155
UID:2368155-1@fest.fr
END:VEVENT
END:VCALENDAR
