BEGIN:VCALENDAR
CALSCALE:GREGORIAN
VERSION:2.0
METHOD:PUBLISH 
X-WR-CALNAME:
BEGIN:VEVENT
DTSTART;TZID=Europe/Paris:20260419T180000
DTEND;TZID=Europe/Paris:20260419T190000
SUMMARY:Spectacle : Ca sent l'sapin
CATEGORIE:Spectacles et Théâtre
GEO:43.53490600000000;5.44776600000000
LOCATION:8 avenue de la Violette
Comédie d'Aix\, 13100 Aix-en-Provence\, France
URL:https://www.fest.fr/e/2368005
UID:2368005-1@fest.fr
END:VEVENT
END:VCALENDAR
