BEGIN:VCALENDAR
CALSCALE:GREGORIAN
VERSION:2.0
METHOD:PUBLISH 
X-WR-CALNAME:
BEGIN:VEVENT
DTSTART;TZID=Europe/Paris:20260314T100000
DTEND;TZID=Europe/Paris:20260314T110000
SUMMARY:Salon des artisans et commerçants de Châteaubourg
CATEGORIE:Marchés, Foires et Salons
GEO:48.11119000000000;-1.40398000000000
LOCATION:Rue du Prieuré\, 35220 Châteaubourg\, France
URL:https://www.fest.fr/e/2367753
UID:2367753-1@fest.fr
END:VEVENT
BEGIN:VEVENT
DTSTART;TZID=Europe/Paris:20260315T100000
DTEND;TZID=Europe/Paris:20260315T110000
SUMMARY:Salon des artisans et commerçants de Châteaubourg
CATEGORIE:Marchés, Foires et Salons
GEO:48.11119000000000;-1.40398000000000
LOCATION:Rue du Prieuré\, 35220 Châteaubourg\, France
URL:https://www.fest.fr/e/2367753
UID:2367753-2@fest.fr
END:VEVENT
END:VCALENDAR
