BEGIN:VCALENDAR
CALSCALE:GREGORIAN
VERSION:2.0
METHOD:PUBLISH 
X-WR-CALNAME:
BEGIN:VEVENT
DTSTART;TZID=Europe/Paris:20260314T123456
DTEND;TZID=Europe/Paris:20260314T133456
SUMMARY:Soirée basque à Bor et Bar !
CATEGORIE:Fêtes et Animations
GEO:44.18804337000000;2.07593125000000
LOCATION:Salle des fêtes\, 12270 Bor-et-Bar\, France
URL:https://www.fest.fr/e/2367693
UID:2367693-1@fest.fr
END:VEVENT
END:VCALENDAR
