BEGIN:VCALENDAR
CALSCALE:GREGORIAN
VERSION:2.0
METHOD:PUBLISH 
X-WR-CALNAME:
BEGIN:VEVENT
DTSTART;TZID=Europe/Paris:20260308T090000
DTEND;TZID=Europe/Paris:20260308T100000
SUMMARY:Puces des couturières à Figeac
CATEGORIE:Brocantes, Bourses et Vide-Greniers
GEO:44.60737870000000;2.03330414000000
LOCATION:Salle balène\, 46100 Figeac\, France
URL:https://www.fest.fr/e/2367601
UID:2367601-1@fest.fr
END:VEVENT
END:VCALENDAR
