BEGIN:VCALENDAR
CALSCALE:GREGORIAN
VERSION:2.0
METHOD:PUBLISH 
X-WR-CALNAME:
BEGIN:VEVENT
DTSTART;TZID=Europe/Paris:20261202T100000
DTEND;TZID=Europe/Paris:20261202T110000
SUMMARY:Le Sapin des Comptines
CATEGORIE:Spectacles et théâtre
LOCATION:Espace Culturel François Mitterrand\, 70 avenue Pierre Brossolette\, 10100 Romilly-sur-Seine\, France
URL:https://www.fest.fr/e/2367574
UID:2367574-1@fest.fr
END:VEVENT
BEGIN:VEVENT
DTSTART;TZID=Europe/Paris:20261202T170000
DTEND;TZID=Europe/Paris:20261202T180000
SUMMARY:Le Sapin des Comptines
CATEGORIE:Spectacles et théâtre
LOCATION:Espace Culturel François Mitterrand\, 70 avenue Pierre Brossolette\, 10100 Romilly-sur-Seine\, France
URL:https://www.fest.fr/e/2367574
UID:2367574-2@fest.fr
END:VEVENT
END:VCALENDAR
