BEGIN:VCALENDAR
CALSCALE:GREGORIAN
VERSION:2.0
METHOD:PUBLISH 
X-WR-CALNAME:
BEGIN:VEVENT
DTSTART;TZID=Europe/Paris:20261114T123456
DTEND;TZID=Europe/Paris:20261114T133456
SUMMARY:Salon - Metz Vintage
CATEGORIE:Marchés, Foires et Salons
GEO:49.07750200000000;6.19297000000000
LOCATION:Parc des Expositions
Rue de la Grange aux bois\, 57070 Saint-Julien-lès-Metz\, France
URL:https://www.fest.fr/e/2367351
UID:2367351-1@fest.fr
END:VEVENT
END:VCALENDAR
