BEGIN:VCALENDAR
CALSCALE:GREGORIAN
VERSION:2.0
METHOD:PUBLISH 
X-WR-CALNAME:
BEGIN:VEVENT
DTSTART;TZID=Europe/Paris:20260314T190000
DTEND;TZID=Europe/Paris:20260314T200000
SUMMARY:D'âmes Rebelles
CATEGORIE:Spectacles et théâtre
GEO:47.21456331829100;-1.56290208094400
LOCATION:Théâtre de Poche Graslin\, 5, rue Lekain\, 44000 Nantes\, France
URL:https://www.fest.fr/e/2367266
UID:2367266-1@fest.fr
END:VEVENT
END:VCALENDAR
