BEGIN:VCALENDAR
CALSCALE:GREGORIAN
VERSION:2.0
METHOD:PUBLISH 
X-WR-CALNAME:
BEGIN:VEVENT
DTSTART;TZID=Europe/Paris:20260528T190000
DTEND;TZID=Europe/Paris:20260528T200000
SUMMARY:Tayne • Knife Crime
CATEGORIE:Concerts et musique
GEO:48.85032719999999;2.36970850000000
LOCATION:SUPERSONIC\, 9 Rue Biscornet\, 75012 Paris 12e\, France
URL:https://www.fest.fr/e/2367211
UID:2367211-1@fest.fr
END:VEVENT
END:VCALENDAR
