BEGIN:VCALENDAR
CALSCALE:GREGORIAN
VERSION:2.0
METHOD:PUBLISH 
X-WR-CALNAME:
BEGIN:VEVENT
DTSTART;TZID=Europe/Paris:20260311T150000
DTEND;TZID=Europe/Paris:20260311T160000
SUMMARY:Réalisation collective d'origamis mathématiques
CATEGORIE:Stages, Ateliers et Initiations
GEO:48.89575200000000;2.38797600000000
LOCATION:Cité des sciences et de l'Industrie\, 30 avenue Corentin Cariou\, 75019 Paris 19e\, France
URL:https://www.fest.fr/e/2367055
UID:2367055-1@fest.fr
END:VEVENT
BEGIN:VEVENT
DTSTART;TZID=Europe/Paris:20260312T143000
DTEND;TZID=Europe/Paris:20260312T153000
SUMMARY:Réalisation collective d'origamis mathématiques
CATEGORIE:Stages, Ateliers et Initiations
GEO:48.89575200000000;2.38797600000000
LOCATION:Cité des sciences et de l'Industrie\, 30 avenue Corentin Cariou\, 75019 Paris 19e\, France
URL:https://www.fest.fr/e/2367055
UID:2367055-2@fest.fr
END:VEVENT
END:VCALENDAR
