BEGIN:VCALENDAR
CALSCALE:GREGORIAN
VERSION:2.0
METHOD:PUBLISH 
X-WR-CALNAME:
BEGIN:VEVENT
DTSTART;TZID=Europe/Paris:20260319T183000
DTEND;TZID=Europe/Paris:20260319T193000
SUMMARY:Du nouveau au sujet de la venue à Aix de l’abbé Rive, premier bibliothécaire de
CATEGORIE:Conférences, Forums et Débats
GEO:43.52500540278146;5.43955734446220
LOCATION:Atelier de La Manufacture\, 8/10 rue des Allumettes\, 13090 Aix-en-Provence\, France
URL:https://www.fest.fr/e/2366999
UID:2366999-1@fest.fr
END:VEVENT
END:VCALENDAR
