BEGIN:VCALENDAR
CALSCALE:GREGORIAN
VERSION:2.0
METHOD:PUBLISH 
X-WR-CALNAME:
BEGIN:VEVENT
DTSTART;TZID=Europe/Paris:20260520T140000
DTEND;TZID=Europe/Paris:20260520T150000
SUMMARY:Première monographie de Mona Benyamin
CATEGORIE:Expositions, Visites et Découvertes
GEO:43.31021800000000;5.38997000000000
LOCATION:41 Rue Jobin
Friche Belle de Mai\, 13003 Marseille 3e\, France
URL:https://www.fest.fr/e/2366891
UID:2366891-1@fest.fr
END:VEVENT
END:VCALENDAR
