BEGIN:VCALENDAR
CALSCALE:GREGORIAN
VERSION:2.0
METHOD:PUBLISH 
X-WR-CALNAME:
BEGIN:VEVENT
DTSTART;TZID=Europe/Paris:20260314T090000
DTEND;TZID=Europe/Paris:20260314T100000
SUMMARY:Jardins : initiation au greffage
CATEGORIE:Stages, Ateliers et Initiations
GEO:44.11708500000000;4.12234100000000
LOCATION:Collège Caminarem\, 1410, ch. du mas de la Bedosse\, 30100 Alès\, France
URL:https://www.fest.fr/e/2366798
UID:2366798-1@fest.fr
END:VEVENT
END:VCALENDAR
