BEGIN:VCALENDAR
CALSCALE:GREGORIAN
VERSION:2.0
METHOD:PUBLISH 
X-WR-CALNAME:
BEGIN:VEVENT
DTSTART;TZID=Europe/Paris:20260925T203000
DTEND;TZID=Europe/Paris:20260925T213000
SUMMARY:Isha & Limsa D'Aulnay - Tournée
CATEGORIE:Concerts et musique
GEO:43.11439159933100;5.86264580739800
LOCATION:Centre Culturel Tisot\, Avenue Bartolini\, 83500 La Seyne-sur-Mer\, France
URL:https://www.fest.fr/e/2366429
UID:2366429-1@fest.fr
END:VEVENT
END:VCALENDAR
