BEGIN:VCALENDAR
CALSCALE:GREGORIAN
VERSION:2.0
METHOD:PUBLISH 
X-WR-CALNAME:
BEGIN:VEVENT
DTSTART;TZID=Europe/Paris:20260429T100000
DTEND;TZID=Europe/Paris:20260429T110000
SUMMARY:Club Nature "Les Hérissons"
CATEGORIE:Stages, Ateliers et Initiations
GEO:49.13319500000000;6.21382000000000
LOCATION:Espace Naturel Pédagogique et Convivial
Rue des Pins\, 57070 Saint-Julien-lès-Metz\, France
URL:https://www.fest.fr/e/2366181
UID:2366181-1@fest.fr
END:VEVENT
BEGIN:VEVENT
DTSTART;TZID=Europe/Paris:20260506T100000
DTEND;TZID=Europe/Paris:20260506T110000
SUMMARY:Club Nature "Les Hérissons"
CATEGORIE:Stages, Ateliers et Initiations
GEO:49.13319500000000;6.21382000000000
LOCATION:Espace Naturel Pédagogique et Convivial
Rue des Pins\, 57070 Saint-Julien-lès-Metz\, France
URL:https://www.fest.fr/e/2366181
UID:2366181-2@fest.fr
END:VEVENT
BEGIN:VEVENT
DTSTART;TZID=Europe/Paris:20260513T100000
DTEND;TZID=Europe/Paris:20260513T110000
SUMMARY:Club Nature "Les Hérissons"
CATEGORIE:Stages, Ateliers et Initiations
GEO:49.13319500000000;6.21382000000000
LOCATION:Espace Naturel Pédagogique et Convivial
Rue des Pins\, 57070 Saint-Julien-lès-Metz\, France
URL:https://www.fest.fr/e/2366181
UID:2366181-3@fest.fr
END:VEVENT
BEGIN:VEVENT
DTSTART;TZID=Europe/Paris:20260520T100000
DTEND;TZID=Europe/Paris:20260520T110000
SUMMARY:Club Nature "Les Hérissons"
CATEGORIE:Stages, Ateliers et Initiations
GEO:49.13319500000000;6.21382000000000
LOCATION:Espace Naturel Pédagogique et Convivial
Rue des Pins\, 57070 Saint-Julien-lès-Metz\, France
URL:https://www.fest.fr/e/2366181
UID:2366181-4@fest.fr
END:VEVENT
BEGIN:VEVENT
DTSTART;TZID=Europe/Paris:20260527T100000
DTEND;TZID=Europe/Paris:20260527T110000
SUMMARY:Club Nature "Les Hérissons"
CATEGORIE:Stages, Ateliers et Initiations
GEO:49.13319500000000;6.21382000000000
LOCATION:Espace Naturel Pédagogique et Convivial
Rue des Pins\, 57070 Saint-Julien-lès-Metz\, France
URL:https://www.fest.fr/e/2366181
UID:2366181-5@fest.fr
END:VEVENT
BEGIN:VEVENT
DTSTART;TZID=Europe/Paris:20260603T100000
DTEND;TZID=Europe/Paris:20260603T110000
SUMMARY:Club Nature "Les Hérissons"
CATEGORIE:Stages, Ateliers et Initiations
GEO:49.13319500000000;6.21382000000000
LOCATION:Espace Naturel Pédagogique et Convivial
Rue des Pins\, 57070 Saint-Julien-lès-Metz\, France
URL:https://www.fest.fr/e/2366181
UID:2366181-6@fest.fr
END:VEVENT
BEGIN:VEVENT
DTSTART;TZID=Europe/Paris:20260610T100000
DTEND;TZID=Europe/Paris:20260610T110000
SUMMARY:Club Nature "Les Hérissons"
CATEGORIE:Stages, Ateliers et Initiations
GEO:49.13319500000000;6.21382000000000
LOCATION:Espace Naturel Pédagogique et Convivial
Rue des Pins\, 57070 Saint-Julien-lès-Metz\, France
URL:https://www.fest.fr/e/2366181
UID:2366181-7@fest.fr
END:VEVENT
BEGIN:VEVENT
DTSTART;TZID=Europe/Paris:20260617T100000
DTEND;TZID=Europe/Paris:20260617T110000
SUMMARY:Club Nature "Les Hérissons"
CATEGORIE:Stages, Ateliers et Initiations
GEO:49.13319500000000;6.21382000000000
LOCATION:Espace Naturel Pédagogique et Convivial
Rue des Pins\, 57070 Saint-Julien-lès-Metz\, France
URL:https://www.fest.fr/e/2366181
UID:2366181-8@fest.fr
END:VEVENT
BEGIN:VEVENT
DTSTART;TZID=Europe/Paris:20260624T100000
DTEND;TZID=Europe/Paris:20260624T110000
SUMMARY:Club Nature "Les Hérissons"
CATEGORIE:Stages, Ateliers et Initiations
GEO:49.13319500000000;6.21382000000000
LOCATION:Espace Naturel Pédagogique et Convivial
Rue des Pins\, 57070 Saint-Julien-lès-Metz\, France
URL:https://www.fest.fr/e/2366181
UID:2366181-9@fest.fr
END:VEVENT
BEGIN:VEVENT
DTSTART;TZID=Europe/Paris:20260701T100000
DTEND;TZID=Europe/Paris:20260701T110000
SUMMARY:Club Nature "Les Hérissons"
CATEGORIE:Stages, Ateliers et Initiations
GEO:49.13319500000000;6.21382000000000
LOCATION:Espace Naturel Pédagogique et Convivial
Rue des Pins\, 57070 Saint-Julien-lès-Metz\, France
URL:https://www.fest.fr/e/2366181
UID:2366181-10@fest.fr
END:VEVENT
END:VCALENDAR
