BEGIN:VCALENDAR
CALSCALE:GREGORIAN
VERSION:2.0
METHOD:PUBLISH 
X-WR-CALNAME:
BEGIN:VEVENT
DTSTART;TZID=Europe/Paris:20260508T110000
DTEND;TZID=Europe/Paris:20260508T120000
SUMMARY:Festival Chez Monique #3
CATEGORIE:Concerts et Musique
GEO:48.51502087624011;-4.04854576066456
LOCATION:Le Vallon\, Kerivoal\, 29400 Landivisiau\, France
URL:https://www.fest.fr/e/2366037
UID:2366037-1@fest.fr
END:VEVENT
BEGIN:VEVENT
DTSTART;TZID=Europe/Paris:20260509T100000
DTEND;TZID=Europe/Paris:20260509T110000
SUMMARY:Festival Chez Monique #3
CATEGORIE:Concerts et Musique
GEO:48.51502087624011;-4.04854576066456
LOCATION:Le Vallon\, Kerivoal\, 29400 Landivisiau\, France
URL:https://www.fest.fr/e/2366037
UID:2366037-2@fest.fr
END:VEVENT
END:VCALENDAR
