BEGIN:VCALENDAR
CALSCALE:GREGORIAN
VERSION:2.0
METHOD:PUBLISH 
X-WR-CALNAME:
BEGIN:VEVENT
DTSTART;TZID=Europe/Paris:20261004T134000
DTEND;TZID=Europe/Paris:20261004T144000
SUMMARY:Thé dansant Automne - Union Nationale des Combattants
CATEGORIE:Bals et Thés Dansants
LOCATION:Salle des Grands Chenes\, La Prairie\, 35580 Guignen\, France
URL:https://www.fest.fr/e/2366013
UID:2366013-1@fest.fr
END:VEVENT
END:VCALENDAR
