BEGIN:VCALENDAR
CALSCALE:GREGORIAN
VERSION:2.0
METHOD:PUBLISH 
X-WR-CALNAME:
BEGIN:VEVENT
DTSTART;TZID=Europe/Paris:20260411T190000
DTEND;TZID=Europe/Paris:20260411T200000
SUMMARY:The Game of Nibelungen
CATEGORIE:Spectacles et Théâtre
GEO:47.27947700000000;-1.56072200000000
LOCATION:Espace Culturel Capellia\, Chemin de Roche Blanche\, 44240 La Chapelle-sur-Erdre\, France
URL:https://www.fest.fr/e/2365845
UID:2365845-1@fest.fr
END:VEVENT
BEGIN:VEVENT
DTSTART;TZID=Europe/Paris:20260411T213000
DTEND;TZID=Europe/Paris:20260411T223000
SUMMARY:The Game of Nibelungen
CATEGORIE:Spectacles et Théâtre
GEO:47.27947700000000;-1.56072200000000
LOCATION:Espace Culturel Capellia\, Chemin de Roche Blanche\, 44240 La Chapelle-sur-Erdre\, France
URL:https://www.fest.fr/e/2365845
UID:2365845-2@fest.fr
END:VEVENT
BEGIN:VEVENT
DTSTART;TZID=Europe/Paris:20260412T143000
DTEND;TZID=Europe/Paris:20260412T153000
SUMMARY:The Game of Nibelungen
CATEGORIE:Spectacles et Théâtre
GEO:47.27947700000000;-1.56072200000000
LOCATION:Espace Culturel Capellia\, Chemin de Roche Blanche\, 44240 La Chapelle-sur-Erdre\, France
URL:https://www.fest.fr/e/2365845
UID:2365845-3@fest.fr
END:VEVENT
BEGIN:VEVENT
DTSTART;TZID=Europe/Paris:20260412T170000
DTEND;TZID=Europe/Paris:20260412T180000
SUMMARY:The Game of Nibelungen
CATEGORIE:Spectacles et Théâtre
GEO:47.27947700000000;-1.56072200000000
LOCATION:Espace Culturel Capellia\, Chemin de Roche Blanche\, 44240 La Chapelle-sur-Erdre\, France
URL:https://www.fest.fr/e/2365845
UID:2365845-4@fest.fr
END:VEVENT
END:VCALENDAR
