BEGIN:VCALENDAR
CALSCALE:GREGORIAN
VERSION:2.0
METHOD:PUBLISH 
X-WR-CALNAME:
BEGIN:VEVENT
DTSTART;TZID=Europe/Paris:20260606T100000
DTEND;TZID=Europe/Paris:20260606T110000
SUMMARY:Le jardin des couleurs
CATEGORIE:Expositions, Visites et Découvertes
GEO:45.60394500000000;5.55083200000000
LOCATION:Le jardin des couleurs\, 311 route de villeneuve\, 38630 Corbelin\, France
URL:https://www.fest.fr/e/2365749
UID:2365749-1@fest.fr
END:VEVENT
BEGIN:VEVENT
DTSTART;TZID=Europe/Paris:20260607T100000
DTEND;TZID=Europe/Paris:20260607T110000
SUMMARY:Le jardin des couleurs
CATEGORIE:Expositions, Visites et Découvertes
GEO:45.60394500000000;5.55083200000000
LOCATION:Le jardin des couleurs\, 311 route de villeneuve\, 38630 Corbelin\, France
URL:https://www.fest.fr/e/2365749
UID:2365749-2@fest.fr
END:VEVENT
END:VCALENDAR
