BEGIN:VCALENDAR
CALSCALE:GREGORIAN
VERSION:2.0
METHOD:PUBLISH 
X-WR-CALNAME:
BEGIN:VEVENT
DTSTART;TZID=Europe/Paris:20260328T150000
DTEND;TZID=Europe/Paris:20260328T160000
SUMMARY:Atelier et spectacle -- Printemps des Poètes
CATEGORIE:Littérature
GEO:50.69353100000000;2.51852400000000
LOCATION:Espace Élisabeth Dantin-Fatoux\, 1 Rue de la Fontaine\, 59190 Morbecque\, France
URL:https://www.fest.fr/e/2365289
UID:2365289-1@fest.fr
END:VEVENT
BEGIN:VEVENT
DTSTART;TZID=Europe/Paris:20260328T190000
DTEND;TZID=Europe/Paris:20260328T200000
SUMMARY:Atelier et spectacle -- Printemps des Poètes
CATEGORIE:Littérature
GEO:50.69353100000000;2.51852400000000
LOCATION:Espace Élisabeth Dantin-Fatoux\, 1 Rue de la Fontaine\, 59190 Morbecque\, France
URL:https://www.fest.fr/e/2365289
UID:2365289-2@fest.fr
END:VEVENT
END:VCALENDAR
