BEGIN:VCALENDAR
CALSCALE:GREGORIAN
VERSION:2.0
METHOD:PUBLISH 
X-WR-CALNAME:
BEGIN:VEVENT
DTSTART;TZID=Europe/Paris:20260422T140000
DTEND;TZID=Europe/Paris:20260422T150000
SUMMARY:PREMIÈRE APPROCHE DE LA SPÉLÉO SPORTIVE 1/2 JOURNÉE
CATEGORIE:Stages, Ateliers et Initiations
GEO:42.97806000000000;0.75828000000000
LOCATION:RDV PLACE DE LA MAIRIE\, 31160 Juzet-d'Izaut\, France
URL:https://www.fest.fr/e/2365255
UID:2365255-1@fest.fr
END:VEVENT
BEGIN:VEVENT
DTSTART;TZID=Europe/Paris:20260429T140000
DTEND;TZID=Europe/Paris:20260429T150000
SUMMARY:PREMIÈRE APPROCHE DE LA SPÉLÉO SPORTIVE 1/2 JOURNÉE
CATEGORIE:Stages, Ateliers et Initiations
GEO:42.97806000000000;0.75828000000000
LOCATION:RDV PLACE DE LA MAIRIE\, 31160 Juzet-d'Izaut\, France
URL:https://www.fest.fr/e/2365255
UID:2365255-2@fest.fr
END:VEVENT
BEGIN:VEVENT
DTSTART;TZID=Europe/Paris:20260509T140000
DTEND;TZID=Europe/Paris:20260509T150000
SUMMARY:PREMIÈRE APPROCHE DE LA SPÉLÉO SPORTIVE 1/2 JOURNÉE
CATEGORIE:Stages, Ateliers et Initiations
GEO:42.97806000000000;0.75828000000000
LOCATION:RDV PLACE DE LA MAIRIE\, 31160 Juzet-d'Izaut\, France
URL:https://www.fest.fr/e/2365255
UID:2365255-3@fest.fr
END:VEVENT
BEGIN:VEVENT
DTSTART;TZID=Europe/Paris:20260523T140000
DTEND;TZID=Europe/Paris:20260523T150000
SUMMARY:PREMIÈRE APPROCHE DE LA SPÉLÉO SPORTIVE 1/2 JOURNÉE
CATEGORIE:Stages, Ateliers et Initiations
GEO:42.97806000000000;0.75828000000000
LOCATION:RDV PLACE DE LA MAIRIE\, 31160 Juzet-d'Izaut\, France
URL:https://www.fest.fr/e/2365255
UID:2365255-4@fest.fr
END:VEVENT
BEGIN:VEVENT
DTSTART;TZID=Europe/Paris:20260530T140000
DTEND;TZID=Europe/Paris:20260530T150000
SUMMARY:PREMIÈRE APPROCHE DE LA SPÉLÉO SPORTIVE 1/2 JOURNÉE
CATEGORIE:Stages, Ateliers et Initiations
GEO:42.97806000000000;0.75828000000000
LOCATION:RDV PLACE DE LA MAIRIE\, 31160 Juzet-d'Izaut\, France
URL:https://www.fest.fr/e/2365255
UID:2365255-5@fest.fr
END:VEVENT
BEGIN:VEVENT
DTSTART;TZID=Europe/Paris:20260606T140000
DTEND;TZID=Europe/Paris:20260606T150000
SUMMARY:PREMIÈRE APPROCHE DE LA SPÉLÉO SPORTIVE 1/2 JOURNÉE
CATEGORIE:Stages, Ateliers et Initiations
GEO:42.97806000000000;0.75828000000000
LOCATION:RDV PLACE DE LA MAIRIE\, 31160 Juzet-d'Izaut\, France
URL:https://www.fest.fr/e/2365255
UID:2365255-6@fest.fr
END:VEVENT
BEGIN:VEVENT
DTSTART;TZID=Europe/Paris:20260613T140000
DTEND;TZID=Europe/Paris:20260613T150000
SUMMARY:PREMIÈRE APPROCHE DE LA SPÉLÉO SPORTIVE 1/2 JOURNÉE
CATEGORIE:Stages, Ateliers et Initiations
GEO:42.97806000000000;0.75828000000000
LOCATION:RDV PLACE DE LA MAIRIE\, 31160 Juzet-d'Izaut\, France
URL:https://www.fest.fr/e/2365255
UID:2365255-7@fest.fr
END:VEVENT
END:VCALENDAR
