BEGIN:VCALENDAR
CALSCALE:GREGORIAN
VERSION:2.0
METHOD:PUBLISH 
X-WR-CALNAME:
BEGIN:VEVENT
DTSTART;TZID=Europe/Paris:20260425T090000
DTEND;TZID=Europe/Paris:20260425T100000
SUMMARY:SORTIE DÉCOUVERTE EN SPÉLÉO : UNE PREMIÈRE APPROCHE DU MONDE SOUTERRAIN
CATEGORIE:Stages, Ateliers et Initiations
GEO:43.01445600000000;0.80292599000000
LOCATION:RDV AU PARKING DU CARREFOUR EXPRESS\, 31160 Aspet\, France
URL:https://www.fest.fr/e/2365251
UID:2365251-1@fest.fr
END:VEVENT
BEGIN:VEVENT
DTSTART;TZID=Europe/Paris:20260427T090000
DTEND;TZID=Europe/Paris:20260427T100000
SUMMARY:SORTIE DÉCOUVERTE EN SPÉLÉO : UNE PREMIÈRE APPROCHE DU MONDE SOUTERRAIN
CATEGORIE:Stages, Ateliers et Initiations
GEO:43.01445600000000;0.80292599000000
LOCATION:RDV AU PARKING DU CARREFOUR EXPRESS\, 31160 Aspet\, France
URL:https://www.fest.fr/e/2365251
UID:2365251-2@fest.fr
END:VEVENT
BEGIN:VEVENT
DTSTART;TZID=Europe/Paris:20260429T090000
DTEND;TZID=Europe/Paris:20260429T100000
SUMMARY:SORTIE DÉCOUVERTE EN SPÉLÉO : UNE PREMIÈRE APPROCHE DU MONDE SOUTERRAIN
CATEGORIE:Stages, Ateliers et Initiations
GEO:43.01445600000000;0.80292599000000
LOCATION:RDV AU PARKING DU CARREFOUR EXPRESS\, 31160 Aspet\, France
URL:https://www.fest.fr/e/2365251
UID:2365251-3@fest.fr
END:VEVENT
END:VCALENDAR
