BEGIN:VCALENDAR
CALSCALE:GREGORIAN
VERSION:2.0
METHOD:PUBLISH 
X-WR-CALNAME:
BEGIN:VEVENT
DTSTART;TZID=Europe/Paris:20260828T180000
DTEND;TZID=Europe/Paris:20260828T190000
SUMMARY:Une ville, des quartiers : Le quartier Saint-Sever
CATEGORIE:Expositions, Visites et Découvertes
GEO:49.43048910000000;1.08505080000000
LOCATION:Devant l’église Saint-Sever\, 76100 Rouen\, France
URL:https://www.fest.fr/e/2365108
UID:2365108-1@fest.fr
END:VEVENT
END:VCALENDAR
